dset ^USAgg%m2%d2%y2%h2.Grb
index ^USAgg.Grb.idx
undef 9.999E+20
title USAgg.Grb
* produced by grib2ctl v0.9.12.5p4
options yrev template
dtype grib 240
pdef 1160 880 nps 441 1601 255 4.763
xdef 801 linear -130 0.1
ydef 401 linear 20 0.1
tdef 48 linear 00Z27Nov1997 1hr
zdef 1 linear 1 1
vars 1
APCPsfc 0 61,1,0 ** Total precipitation [kg/m^2]
ENDVARS
